BEGIN:VCALENDAR
VERSION:2.0
PRODID:-//IEB Santa Rita - ECPv6.15.20//NONSGML v1.0//EN
CALSCALE:GREGORIAN
METHOD:PUBLISH
X-WR-CALNAME:IEB Santa Rita
X-ORIGINAL-URL:https://iebsr.org
X-WR-CALDESC:Eventos para IEB Santa Rita
REFRESH-INTERVAL;VALUE=DURATION:PT1H
X-Robots-Tag:noindex
X-PUBLISHED-TTL:PT1H
BEGIN:VTIMEZONE
TZID:America/Sao_Paulo
BEGIN:STANDARD
TZOFFSETFROM:-0300
TZOFFSETTO:-0300
TZNAME:-03
DTSTART:20240101T000000
END:STANDARD
END:VTIMEZONE
BEGIN:VEVENT
DTSTART;TZID=America/Sao_Paulo:20251011T193000
DTEND;TZID=America/Sao_Paulo:20251011T213000
DTSTAMP:20260421T020139
CREATED:20220709T174734Z
LAST-MODIFIED:20220709T174734Z
UID:59266-1760211000-1760218200@iebsr.org
SUMMARY:Encontro Mulheres de Fé
DESCRIPTION:
URL:https://iebsr.org/evento/encontro-mulheres-de-fe-2025-10-11/
LOCATION:Igreja Evangélica Batista em Santa Rita\, Rua General Osório\, 33A\, Tibiri Fábrica\, Santa Rita\, Paraíba\, 58300-600\, Brasil
ORGANIZER;CN="Igreja Evang%C3%A9lica Batista em Santa Rita":MAILTO:contato@iebsr.org
END:VEVENT
END:VCALENDAR